BEGIN:VCALENDAR
VERSION:2.0
PRODID:-//Yoga met Willemijn - ECPv6.15.20//NONSGML v1.0//EN
CALSCALE:GREGORIAN
METHOD:PUBLISH
X-ORIGINAL-URL:https://yogametwillemijn.nl
X-WR-CALDESC:Evenementen voor Yoga met Willemijn
REFRESH-INTERVAL;VALUE=DURATION:PT1H
X-Robots-Tag:noindex
X-PUBLISHED-TTL:PT1H
BEGIN:VTIMEZONE
TZID:Europe/Amsterdam
BEGIN:DAYLIGHT
TZOFFSETFROM:+0100
TZOFFSETTO:+0200
TZNAME:CEST
DTSTART:20250330T010000
END:DAYLIGHT
BEGIN:STANDARD
TZOFFSETFROM:+0200
TZOFFSETTO:+0100
TZNAME:CET
DTSTART:20251026T010000
END:STANDARD
BEGIN:DAYLIGHT
TZOFFSETFROM:+0100
TZOFFSETTO:+0200
TZNAME:CEST
DTSTART:20260329T010000
END:DAYLIGHT
BEGIN:STANDARD
TZOFFSETFROM:+0200
TZOFFSETTO:+0100
TZNAME:CET
DTSTART:20261025T010000
END:STANDARD
BEGIN:DAYLIGHT
TZOFFSETFROM:+0100
TZOFFSETTO:+0200
TZNAME:CEST
DTSTART:20270328T010000
END:DAYLIGHT
BEGIN:STANDARD
TZOFFSETFROM:+0200
TZOFFSETTO:+0100
TZNAME:CET
DTSTART:20271031T010000
END:STANDARD
END:VTIMEZONE
BEGIN:VEVENT
DTSTART;TZID=Europe/Amsterdam:20260417T190000
DTEND;TZID=Europe/Amsterdam:20260417T210000
DTSTAMP:20260426T015214
CREATED:20251202T084932Z
LAST-MODIFIED:20260126T111908Z
UID:1680-1776452400-1776459600@yogametwillemijn.nl
SUMMARY:Rug Yoga Workshop
DESCRIPTION:Ontspan\, verleng en herstructureer je rug\nVeel mensen ervaren dagelijks spanning in de rug\, schouders of nek. Vaak proberen we dit te compenseren met kracht – harder werken\, meer aanspannen – terwijl ontspanning juist vaak verlichting kan brengen. \nIn deze workshop maak je kennis met verschillende oefeningen en materialen die je helpen bewust te worden van je bewegingspatronen en meer ruimte en ontspanning in je lichaam te creëren. \nWat je tijdens de workshop leert\nIn deze 2-uur durende workshop onderzoeken we je lichaam en hoe je het optimaal kunt gebruiken: \nInzicht in je bewegingspatronenWe kijken naar hoe je wervelkolom beweegt\, waar spanning zich opbouwt en hoe je je houding kunt verbeteren. \nBewust ontspannen & aanspannen\nJe leert hoe je spieren op een herkenbare manier kunt loslaten en waar je vaak onbewust spanning vasthoudt. Daarnaast kijken we waar je meer kracht kunt gebruiken en hoe je deze spieren gericht kan trainen. \nPraktische houdingsaanpassingenMet eenvoudige correcties help ik je inzicht te krijgen in je eigen patronen en je houding subtiel te verbeteren. \nWerken met materialenWe gebruiken hulpmiddelen zoals de yoga strip\, een riem\, dekens en weerstandsband om beweging en ruimte in je rug\, nek en schouders te ondersteunen. \nDiepe ontspanning als afsluitingJe lichaam krijgt de kans om de nieuwe bewegingsruimte te ervaren en te integreren. \nDeze workshop is geschikt voor iedereen\, of je nu ervaring hebt met yoga of niet. \nPraktisch\n\nData: Vrijdag 17 april (herhaling op 15 mei)\nTijd: 19:00 – 21:00 uur\nLocatie: Yoga met Willemijn @ Fletcher Langewold\nDeelnemers: max. 10 personen\nPrijs: Leden €39\,- / Niet-leden €41\,50\nAanbevolen: comfortabele kleding; eigen mat mag mee\, materialen aanwezig\n\nWaarom meedoen?\nDeze workshop is ideaal als je: \n– regelmatig spanning voelt in rug\, nek of schouders\n– een zittend beroep hebt of veel achter een scherm werkt\n– je bewust wilt worden van je houding en bewegingspatronen\n– diepere ontspanning wilt ervaren dan in een gewone yogales \nGun jezelf twee uur aandacht\, beweging en ruimte. Je gaat naar huis met meer bewustzijn van je lichaam\, praktische tips en oefeningen die je meteen kunt toepassen in je dagelijks leven. \nAanmelden & Betaling
URL:https://yogametwillemijn.nl/event/rug-yoga-workshop/
LOCATION:Fletcher Hotel Langewold\, Ceintuurbaan Noord 1\, Roden\, Drenthe\, 9301 NR\, Netherlands
END:VEVENT
END:VCALENDAR